BEGIN:VCALENDAR
VERSION:2.0
PRODID:-//ChamberMaster//Event Calendar 2.0//EN
METHOD:PUBLISH
X-PUBLISHED-TTL:P3D
REFRESH-INTERVAL:P3D
CALSCALE:GREGORIAN
BEGIN:VEVENT
DTSTART:20140124T143000Z
DTEND:20140124T180000Z
X-MICROSOFT-CDO-ALLDAYEVENT:FALSE
SUMMARY:Centegra Weigh Less\, Live More Event
DESCRIPTION:Community Event offering information\, support and free screenings to people who are struggling with weight and related health issues. Get information on fitness\, nutrition\, weight loss options\, healthy lifestyle choices\, personal wellness and more! Interact with our clinical team\, weight loss specialists\, workshops and exhibits. This fun and interactive event will feature: ?Cooking Demonstration ?Physician Lecture ?Workshops & Exhibits ?Raffles & Giveaways ?The first 200 to register will receive a free vegetable peeler! Join us for information on health services including: ?Weight Loss Surgery Center ?NutritionWellness Programs ?Medical Nutrition Therapy ?Exercise ?Centegra Weight Loss Institute ?Centegra Physician Care
X-ALT-DESC;FMTTYPE=text/html:Community Event offering information\, support and free screenings to people who are struggling with weight and related health issues. Get information on fitness\, nutrition\, weight loss options\, healthy lifestyle choices\, personal wellness and more! Interact with our clinical team\, weight loss specialists\, workshops and exhibits. This fun and interactive event will feature: ?Cooking Demonstration ?Physician Lecture ?Workshops &amp\; Exhibits ?Raffles &amp\; Giveaways ?The first 200 to register will receive a free vegetable peeler! Join us for information on health services including: ?Weight Loss Surgery Center ?NutritionWellness Programs ?Medical Nutrition Therapy ?Exercise ?Centegra Weight Loss Institute ?Centegra Physician Care
LOCATION:Centegra Health Bridge Fitness Center-Huntley
UID:e.625.92
SEQUENCE:3
DTSTAMP:20260419T202429Z
URL:https://business.marengo-union.com/events/details/centegra-weigh-less-live-more-event-01-24-2014-92
END:VEVENT

END:VCALENDAR
